BEGIN:VCALENDAR
VERSION:2.0
PRODID:-//Gems | Girls Empowerment at Mountain Shepherd - ECPv5.2.1//NONSGML v1.0//EN
CALSCALE:GREGORIAN
METHOD:PUBLISH
X-WR-CALNAME:Gems | Girls Empowerment at Mountain Shepherd
X-ORIGINAL-URL:https://allgirlsaregems.com
X-WR-CALDESC:Events for Gems | Girls Empowerment at Mountain Shepherd
BEGIN:VTIMEZONE
TZID:UTC
BEGIN:STANDARD
TZOFFSETFROM:+0000
TZOFFSETTO:+0000
TZNAME:UTC
DTSTART:20200101T000000
END:STANDARD
END:VTIMEZONE
BEGIN:VEVENT
DTSTART;VALUE=DATE:20200622
DTEND;VALUE=DATE:20200627
DTSTAMP:20260420T105044
CREATED:20201031T185655Z
LAST-MODIFIED:20201031T185655Z
UID:4653-1592784000-1593215999@allgirlsaregems.com
SUMMARY:GEMS 1: Shining Bright
DESCRIPTION:GEMS are Girls Empowered through exploration of seven survival priorities: positive mental attitude\, first aid\, shelter\, fire\, signaling\, water\, and food. During a five-day overnight experience\, GEMS will learn the practical skills associated with each priority. Girls will also discover the parallels between each survival priority and their lives in the “front country.” GEMS will gain an appreciation for their natural and social surroundings through fun — and deceptively educational — activities such as night hikes\, team-building games\, and biodiversity studies. After five days\, GEMS leave with confidence and compassion\, knowing more about themselves and how they interpret and interact with their world. GEMS: Girls Empowered at Mountain Shepherd! A fun week finding courage\, developing confidence with compassion! Sign up your middle school aged daughter today!
URL:https://allgirlsaregems.com/event/gems-1-shining-bright/
END:VEVENT
END:VCALENDAR